BEGIN:VCALENDAR
VERSION:2.0
PRODID:-//OCFA - ECPv6.15.13.1//NONSGML v1.0//EN
CALSCALE:GREGORIAN
METHOD:PUBLISH
X-WR-CALNAME:OCFA
X-ORIGINAL-URL:https://ocfa.org
X-WR-CALDESC:Events for OCFA
REFRESH-INTERVAL;VALUE=DURATION:PT1H
X-Robots-Tag:noindex
X-PUBLISHED-TTL:PT1H
BEGIN:VTIMEZONE
TZID:America/Los_Angeles
BEGIN:DAYLIGHT
TZOFFSETFROM:-0800
TZOFFSETTO:-0700
TZNAME:PDT
DTSTART:20250309T100000
END:DAYLIGHT
BEGIN:STANDARD
TZOFFSETFROM:-0700
TZOFFSETTO:-0800
TZNAME:PST
DTSTART:20251102T090000
END:STANDARD
BEGIN:DAYLIGHT
TZOFFSETFROM:-0800
TZOFFSETTO:-0700
TZNAME:PDT
DTSTART:20260308T100000
END:DAYLIGHT
BEGIN:STANDARD
TZOFFSETFROM:-0700
TZOFFSETTO:-0800
TZNAME:PST
DTSTART:20261101T090000
END:STANDARD
BEGIN:DAYLIGHT
TZOFFSETFROM:-0800
TZOFFSETTO:-0700
TZNAME:PDT
DTSTART:20270314T100000
END:DAYLIGHT
BEGIN:STANDARD
TZOFFSETFROM:-0700
TZOFFSETTO:-0800
TZNAME:PST
DTSTART:20271107T090000
END:STANDARD
END:VTIMEZONE
BEGIN:VEVENT
DTSTART;TZID=America/Los_Angeles:20261022T180000
DTEND;TZID=America/Los_Angeles:20261022T190000
DTSTAMP:20260420T131001
CREATED:20250929T221421Z
LAST-MODIFIED:20251229T214403Z
UID:10000143-1792692000-1792695600@ocfa.org
SUMMARY:Board of Directors Meeting
DESCRIPTION:
URL:https://ocfa.org/event/board-of-directors-meeting/2026-10-22/
LOCATION:Headquarters\, OCFA Headquarters\, 1 Fire Authority\, Irvine\, CA\, 92602\, United States
CATEGORIES:Board & Committee Meetings
END:VEVENT
BEGIN:VEVENT
DTSTART;TZID=America/Los_Angeles:20261103T120000
DTEND;TZID=America/Los_Angeles:20261103T123000
DTSTAMP:20260420T131001
CREATED:20250929T225333Z
LAST-MODIFIED:20251230T192237Z
UID:10000180-1793707200-1793709000@ocfa.org
SUMMARY:Human Resources Committee Meeting
DESCRIPTION:
URL:https://ocfa.org/event/human-resources-committee-meeting/2026-11-03/
CATEGORIES:Board & Committee Meetings
END:VEVENT
BEGIN:VEVENT
DTSTART;TZID=America/Los_Angeles:20261104T120000
DTEND;TZID=America/Los_Angeles:20261104T130000
DTSTAMP:20260420T131001
CREATED:20250929T224847Z
LAST-MODIFIED:20251229T234901Z
UID:10000176-1793793600-1793797200@ocfa.org
SUMMARY:Budget & Finance Committee Meeting
DESCRIPTION:
URL:https://ocfa.org/event/budget-finance-committee-meeting/2026-11-04/
LOCATION:Headquarters\, OCFA Headquarters\, 1 Fire Authority\, Irvine\, CA\, 92602\, United States
CATEGORIES:Board & Committee Meetings
END:VEVENT
BEGIN:VEVENT
DTSTART;TZID=America/Los_Angeles:20261110T120000
DTEND;TZID=America/Los_Angeles:20261110T130000
DTSTAMP:20260420T131001
CREATED:20250929T225928Z
LAST-MODIFIED:20251230T193006Z
UID:10000188-1794312000-1794315600@ocfa.org
SUMMARY:Operations Committee Meeting
DESCRIPTION:
URL:https://ocfa.org/event/operations-committee-meeting/2026-11-10/
CATEGORIES:Board & Committee Meetings
END:VEVENT
BEGIN:VEVENT
DTSTART;VALUE=DATE:20261111
DTEND;VALUE=DATE:20261112
DTSTAMP:20260420T131001
CREATED:20250718T083152Z
LAST-MODIFIED:20251229T231214Z
UID:10000153-1794384000-1794416400@ocfa.org
SUMMARY:Holiday
DESCRIPTION:
URL:https://ocfa.org/event/holiday-9/2026-11-11/
CATEGORIES:Holidays
END:VEVENT
BEGIN:VEVENT
DTSTART;TZID=America/Los_Angeles:20261119T173000
DTEND;TZID=America/Los_Angeles:20261119T180000
DTSTAMP:20260420T131001
CREATED:20250929T222415Z
LAST-MODIFIED:20251229T232900Z
UID:10000166-1795109400-1795111200@ocfa.org
SUMMARY:Executive Committee Meeting
DESCRIPTION:
URL:https://ocfa.org/event/executive-committee-meeting/2026-11-19/
CATEGORIES:Board & Committee Meetings
END:VEVENT
BEGIN:VEVENT
DTSTART;TZID=America/Los_Angeles:20261119T180000
DTEND;TZID=America/Los_Angeles:20261119T190000
DTSTAMP:20260420T131001
CREATED:20250929T221421Z
LAST-MODIFIED:20251229T214403Z
UID:10000144-1795111200-1795114800@ocfa.org
SUMMARY:Board of Directors Meeting
DESCRIPTION:
URL:https://ocfa.org/event/board-of-directors-meeting/2026-11-19/
LOCATION:Headquarters\, OCFA Headquarters\, 1 Fire Authority\, Irvine\, CA\, 92602\, United States
CATEGORIES:Board & Committee Meetings
END:VEVENT
BEGIN:VEVENT
DTSTART;VALUE=DATE:20261126
DTEND;VALUE=DATE:20261127
DTSTAMP:20260420T131001
CREATED:20250718T083152Z
LAST-MODIFIED:20251229T231214Z
UID:10000154-1795680000-1795712400@ocfa.org
SUMMARY:Holiday
DESCRIPTION:
URL:https://ocfa.org/event/holiday-9/2026-11-26/
CATEGORIES:Holidays
END:VEVENT
BEGIN:VEVENT
DTSTART;VALUE=DATE:20261127
DTEND;VALUE=DATE:20261128
DTSTAMP:20260420T131001
CREATED:20250718T083152Z
LAST-MODIFIED:20251229T231214Z
UID:10000155-1795766400-1795798800@ocfa.org
SUMMARY:Holiday
DESCRIPTION:
URL:https://ocfa.org/event/holiday-9/2026-11-27/
CATEGORIES:Holidays
END:VEVENT
BEGIN:VEVENT
DTSTART;VALUE=DATE:20261224
DTEND;VALUE=DATE:20261225
DTSTAMP:20260420T131001
CREATED:20250718T083152Z
LAST-MODIFIED:20251229T231214Z
UID:10000156-1798099200-1798131600@ocfa.org
SUMMARY:Holiday
DESCRIPTION:
URL:https://ocfa.org/event/holiday-9/2026-12-24/
CATEGORIES:Holidays
END:VEVENT
BEGIN:VEVENT
DTSTART;VALUE=DATE:20261225
DTEND;VALUE=DATE:20261226
DTSTAMP:20260420T131001
CREATED:20250718T083152Z
LAST-MODIFIED:20251229T231214Z
UID:10000157-1798185600-1798218000@ocfa.org
SUMMARY:Holiday
DESCRIPTION:
URL:https://ocfa.org/event/holiday-9/2026-12-25/
CATEGORIES:Holidays
END:VEVENT
END:VCALENDAR